BEGIN:VCALENDAR
VERSION:2.0
PRODID:-//MoCA CT - ECPv6.15.20//NONSGML v1.0//EN
CALSCALE:GREGORIAN
METHOD:PUBLISH
X-ORIGINAL-URL:https://mocact.org
X-WR-CALDESC:Events for MoCA CT
REFRESH-INTERVAL;VALUE=DURATION:PT1H
X-Robots-Tag:noindex
X-PUBLISHED-TTL:PT1H
BEGIN:VTIMEZONE
TZID:America/New_York
BEGIN:DAYLIGHT
TZOFFSETFROM:-0500
TZOFFSETTO:-0400
TZNAME:EDT
DTSTART:20230312T070000
END:DAYLIGHT
BEGIN:STANDARD
TZOFFSETFROM:-0400
TZOFFSETTO:-0500
TZNAME:EST
DTSTART:20231105T060000
END:STANDARD
BEGIN:DAYLIGHT
TZOFFSETFROM:-0500
TZOFFSETTO:-0400
TZNAME:EDT
DTSTART:20240310T070000
END:DAYLIGHT
BEGIN:STANDARD
TZOFFSETFROM:-0400
TZOFFSETTO:-0500
TZNAME:EST
DTSTART:20241103T060000
END:STANDARD
BEGIN:DAYLIGHT
TZOFFSETFROM:-0500
TZOFFSETTO:-0400
TZNAME:EDT
DTSTART:20250309T070000
END:DAYLIGHT
BEGIN:STANDARD
TZOFFSETFROM:-0400
TZOFFSETTO:-0500
TZNAME:EST
DTSTART:20251102T060000
END:STANDARD
END:VTIMEZONE
BEGIN:VEVENT
DTSTART;TZID=America/New_York:20240815T120000
DTEND;TZID=America/New_York:20240815T160000
DTSTAMP:20260423T101104
CREATED:20240624T175424Z
LAST-MODIFIED:20240722T160732Z
UID:10002503-1723723200-1723737600@mocact.org
SUMMARY:Exhibition Hours
DESCRIPTION:Visit the exhibition\, ColleCTomania between 12-4 PM. \nRegister Here. \nAbout ColleCTomania: \nThis exhilarating exhibition displaying over 140 Swiss posters from the renowned collector Tom Strong. Strong is a New Haven\, Connecticut-based graphic designer\, photographer and collector who has spent sixty years amassing\, displaying\, sharing\, and living amongst his archive. The exhibition\, curated by Pamela Hovland and Karen Salsgiver\, includes a widely diverse range of posters from the 1930s to the present. \n\nSwitzerland’s design culture has had a significant influence on the discipline of graphic design. Swiss posters in particular\, especially those designed during the 1950s and 60s\, have attained iconic status and are part of design education in schools across the globe. Created at uniform scale to be displayed in the streets of Zurich\, Lucerne and Basel\, these posters are now highly collectible\, preserved in the archives of major museums and reproduced in art and design books. \nYale University’s graphic design program\, the first in this country\, was critical in disseminating the work and ideas of Swiss designers. Several influential practitioners were invited to New Haven to teach courses and workshops to students\, including Tom Strong\, eager to experiment with typography\, form and craft. When Yale’s design graduates scattered around Connecticut and the country as both practicing and teaching designers\, the visual language and ideology of the ‘Swiss International Style’ spread far and wide. \n\nThe poster as a large\, public\, graphic form has held its prominent place throughout the history of design. Tom Strong’s vast collection of Swiss posters\, accumulated over six decades\, spans the mid-century to today. His archive includes diverse and boundary-breaking visual strategies employed through inventive uses of type and typography\, image-making\, layering and collage. The posters illustrate myriad expressions in style\, subject matter and ever-evolving technologies. Strong’s posters showcase both the outsized influence of Swiss design as well as the contemporary experimentation that builds on that legacy. Seeing the posters fill the gallery walls is pure visual delight. \nColleCTomania invites the viewer to interact with the posters in a way that correlates to the way we interact with social content; The fast pace consumption of images and text and managing to remember the most impactful or relating subjects. The idea of swiping as we see content is no different from how we view art in any institution. We tend to stand for the works that render us speechless and with ColleCTomania\, the wide number of posters that are being displayed serves as a compelling contrast to this belief. \n“Why do I continue to collect Swiss posters? I guess you like Beethoven and then Stravinsky comes along with different principles\, blows your head off. And then you go further\, and you find more composers who you never knew anything about. The body and the brain and the ear are accustomed to surprise and difference and beauty. Other than that\, I can’t defend it or describe it. These posters have power. You can’t deny it.”- Tom Strong
URL:https://mocact.org/events-calendar/exhibition-hours/2024-08-15/
LOCATION:MoCA\CT\, 19 Newtown Turnpike\, Westport\, 06880\, United States
ATTACH;FMTTYPE=image/jpeg:https://mocact.org/wp-content/uploads/2024/05/ColleCTomania-Identity-1.jpg
END:VEVENT
BEGIN:VEVENT
DTSTART;TZID=America/New_York:20240815T143000
DTEND;TZID=America/New_York:20240815T153000
DTSTAMP:20260423T101104
CREATED:20240611T153724Z
LAST-MODIFIED:20240812T145900Z
UID:10002472-1723732200-1723735800@mocact.org
SUMMARY:ColleCTomania: Exhibition Tour with Jerry Kuyper\, designer
DESCRIPTION:Jerry Kuyper is a Westport-based designer whose four years of graduate work at the Schule für Gestaltung (School of Design) in Basel\, Switzerland\, has informed more than thirty years of international corporate and brand identity program design\, poster collecting\, and teaching. \nRegister Now \nJerry Kuyper studied design in Basel\, Switzerland for four years in the mid 70s. Two of his teachers\, Armin Hofmann and Wolfgang Weingart\, have several posters in this show.\n\nJerry has more than forty years of experience designing and directing brand identity programs. His passion is bringing business and brand strategy to life through creativity and design. He also designed a poster.\n  \nBefore establishing his firm\, Jerry Kuyper Partners\, in Westport in 2004\, Jerry had 20 years of experience in senior creative positions with leading identity consultants including Lippincott\, Siegel & Gale\, frogdesign\, Landor\, Saul Bass and Richard Saul Wurman. His clients have included Banco Santander\, Cunard\, Disney\, 1996 Olympic Games in Atlanta\, Penn Medicine\, and the World Wildlife Fund. He has designed visual identities for companies including Aqua America\, AT&T\, Bates Worldwide\, Cisco\, Cushman & Wakefield\, Invisalign\, Penn State\, Sprint\, Stanford Centennial\, Times Mirror\, and Touchstone Films.\n\nIn Connecticut\, Jerry has worked on large visual identity programs for Ability Beyond\, Cartus\, Cigna\, GE\, and United Technologies. In Westport he has created visual identities for Westport Cinema Initiative\, the Remarkable Theater\, and LIT & WIT (a comedy fundraiser for the Westport Writers’ Workshop).\n\nHe has presented to numerous conferences including: the 1993 AIGA National Conference\, Design Management Institute\, The Conference Board and Walker Art Center. In recent years\, he has presented to the Design Institute of Australia\, the HiBrand Identity Conference in Moscow and Advance Branding Conference in Minsk\, Belarus. Jerry has also presented to over 35 universities and designs schools including American University in Dubai\, Art Center\, Basel School of Design\, National Institute of Design in India\, UArts and the University of Cincinnati.\n\nJerry has a B.S. in Graphic Design from the University of Cincinnati. He completed four years of graduate work at the Basel School of Design in Switzerland. He taught design at the University of Hawaii\, Otis Parsons and UCLA Extension. In 1980 he was awarded a Fulbright-Hays grant to teach at the National Institute of Design in Ahmedabad\, India.\n\nIn 1998\, Jerry was selected the Outstanding Alumnus by the College of Design\, Architecture\, Art and Planning at the University of Cincinnati.
URL:https://mocact.org/events-calendar/collectomania-tour-with-jerry-kuyper-designer/
LOCATION:MoCA Westport\, 19 Newtown Turnpike\, Westport\, CT\, 06880\, United States
CATEGORIES:Event,Exhibition
ATTACH;FMTTYPE=image/jpeg:https://mocact.org/wp-content/uploads/2024/08/ColleCTomania-Social-Media-Jerry-Kuyper-Talk.jpeg
END:VEVENT
END:VCALENDAR