BEGIN:VCALENDAR
VERSION:2.0
PRODID:-//MoCA CT - ECPv6.15.20//NONSGML v1.0//EN
CALSCALE:GREGORIAN
METHOD:PUBLISH
X-WR-CALNAME:MoCA CT
X-ORIGINAL-URL:https://mocact.org
X-WR-CALDESC:Events for MoCA CT
REFRESH-INTERVAL;VALUE=DURATION:PT1H
X-Robots-Tag:noindex
X-PUBLISHED-TTL:PT1H
BEGIN:VTIMEZONE
TZID:America/New_York
BEGIN:DAYLIGHT
TZOFFSETFROM:-0500
TZOFFSETTO:-0400
TZNAME:EDT
DTSTART:20230312T070000
END:DAYLIGHT
BEGIN:STANDARD
TZOFFSETFROM:-0400
TZOFFSETTO:-0500
TZNAME:EST
DTSTART:20231105T060000
END:STANDARD
BEGIN:DAYLIGHT
TZOFFSETFROM:-0500
TZOFFSETTO:-0400
TZNAME:EDT
DTSTART:20240310T070000
END:DAYLIGHT
BEGIN:STANDARD
TZOFFSETFROM:-0400
TZOFFSETTO:-0500
TZNAME:EST
DTSTART:20241103T060000
END:STANDARD
BEGIN:DAYLIGHT
TZOFFSETFROM:-0500
TZOFFSETTO:-0400
TZNAME:EDT
DTSTART:20250309T070000
END:DAYLIGHT
BEGIN:STANDARD
TZOFFSETFROM:-0400
TZOFFSETTO:-0500
TZNAME:EST
DTSTART:20251102T060000
END:STANDARD
END:VTIMEZONE
BEGIN:VEVENT
DTSTART;TZID=America/New_York:20240920T130000
DTEND;TZID=America/New_York:20240920T140000
DTSTAMP:20260425T074445
CREATED:20240904T181516Z
LAST-MODIFIED:20240904T182551Z
UID:10003245-1726837200-1726840800@mocact.org
SUMMARY:Masterpiece Makers: Crafting Confidence for Boys
DESCRIPTION:Register here. \nFor ages 8-11. \nIt can be hard to find confidence as a young boy in today’s complicated world. This group will focus on boosting self esteem and coping skills through art\, mindfulness\, and friendship. Over the span of 6 weekly sessions\, the boys will complete projects to help them build confidence and emotional awareness\, while fostering the bond of friendship through a shared experience with one another. There will be several take home items to serve as long term reinforcement for the concepts taught. \nFostering self-esteem and confidence through mindfulness\, friendship\, and art. \nLed by Kimberly Shapiro\, MS\, NCC\, School Counselor/SEL Coach. \n**No class on 10/11 for Yom Kippur \nAbout the Instructor: \nKimberly Laiso Shapiro is a compassionate and experienced  counselor and coach\, specializing in helping children with reserved or mild-moderately anxious temperaments. With a Master of Science degree and certification as a National Certified Counselor\, Kimberly offers a unique\, empathetic approach that empowers clients to focus on the present and build a future they can be proud of. \nWith 10 years of school counseling experience under my belt\, I have learned a lot about the troubles that children are currently facing.  While difficult behaviors\, self-harm\, and very strong emotions are beyond my current scope\, I am happy to work with children struggling with self-esteem\, mild anxiety\, and low confidence. \nhttps://www.newtownbee.com/02072020/snapshot-kimberly-shapiro/ \nhttps://www.kindmindscoach.com/
URL:https://mocact.org/events-calendar/masterpiece-makers-crafting-confidence-for-boys/2024-09-20/
LOCATION:MoCA\CT\, 19 Newtown Turnpike\, Westport\, 06880\, United States
CATEGORIES:Class,Event
ATTACH;FMTTYPE=image/jpeg:https://mocact.org/wp-content/uploads/2024/09/masterpiece-makeres.jpeg
END:VEVENT
BEGIN:VEVENT
DTSTART;TZID=America/New_York:20240920T140000
DTEND;TZID=America/New_York:20240920T150000
DTSTAMP:20260425T074445
CREATED:20240904T183333Z
LAST-MODIFIED:20240904T183555Z
UID:10003251-1726840800-1726844400@mocact.org
SUMMARY:EmpowerHer: Building Confidence Through Art
DESCRIPTION:Register here. \nAges 8-11 \nIt can be hard to find confidence as a young girl in today’s complicated world. This group will focus on boosting self esteem\, self love\, and confidence through art\, mindfulness\, and friendship. Over the span of 6 weekly sessions\, the girls will complete projects to help them to find their inner light\, while fostering the bond of friendship through a shared experience with one another. There will be several take home items to serve as long term reinforcement for the concepts taught. \nFostering self-esteem and confidence through mindfulness\, friendship and art. Led by Kimberly Shapiro\, MS\, NCC\, School Counselor/SEL Coach \n** No class on 10/11 for Yom Kippur \nAbout the Instructor: \nValerie Delp of Two Roads Learning: \nAs a dedicated educator with over 25 years of experience\, I’ve had the privilege of nurturing the minds of diverse learners and crafting engaging learning journeys. Currently pursuing a Masters in Science in Learning Experience Design and Educational Technology\, I’m constantly seeking innovative ways to shape the future of education and to touch the lives of my students. \nMy current role involves creating vibrant and tailored curricula for homeschooling students. I am incredibly invested in finding opportunities for my students\, especially those who are neurodivergent learners. My classroom is a place where I am committed to providing a supportive and inclusive environment where every individual’s unique strengths are celebrated. My classroom is not just a place of learning; it’s a space where laughter\, exploration\, and growth intersect. \nI firmly believe that learning extends beyond textbooks and exams. It’s about nurturing a lifelong thirst for knowledge\, and I instill this philosophy in my students. With my students\, I champion the process of trying new things\, making mistakes\, and confronting challenges. Through these experiences\, we cultivate resilience and develop a genuine love for learning. \nhttps://www.facebook.com/TwoRoadsLearning/?_rdr \nhttps://www.lovetoknow.com/about/team/valorie-delp
URL:https://mocact.org/events-calendar/empowerher/2024-09-20/
LOCATION:MoCA\CT\, 19 Newtown Turnpike\, Westport\, 06880\, United States
CATEGORIES:Class,Event
ATTACH;FMTTYPE=image/jpeg:https://mocact.org/wp-content/uploads/2024/09/empowerher.jpeg
END:VEVENT
BEGIN:VEVENT
DTSTART;TZID=America/New_York:20240920T183000
DTEND;TZID=America/New_York:20240920T203000
DTSTAMP:20260425T074445
CREATED:20240628T182249Z
LAST-MODIFIED:20240820T155455Z
UID:10003218-1726857000-1726864200@mocact.org
SUMMARY:Ceramic Multi-Bowls Workshop with Leah Corbett
DESCRIPTION:Register here. \n\nMake your own multi-bowl centerpiece with Fairfield-based ceramicist Leah Corbett. “Multi-bowls” are one of Leah’s most popular forms\, and can be used for numerous things like snack boards\, jewelry catchers\, air plant displays\, or general organizers for keys & miscellaneous items. In this two-hour workshop\, Leah will guide you through easy steps to pinch & smooth multiple bowl forms out of clay\, attach them\, and manipulate their shapes to fit your own creative style. We provide the clay\, tools & glaze options. You get your hands a little dirty\, choose your glaze\, and pick up your finished creation a few weeks later. This is a great intro to hand-building class to get some basic knowledge that will take you far in the world of pottery.
URL:https://mocact.org/events-calendar/ceramic-multi-bowls-workshop-with-leah-corbett/2024-09-20/
LOCATION:MoCA\CT\, 19 Newtown Turnpike\, Westport\, 06880\, United States
CATEGORIES:Class,Event
ATTACH;FMTTYPE=image/jpeg:https://mocact.org/wp-content/uploads/2024/06/d9j5qtehtodpj.cloudfront.jpg
END:VEVENT
BEGIN:VEVENT
DTSTART;TZID=America/New_York:20240920T190000
DTEND;TZID=America/New_York:20240920T203000
DTSTAMP:20260425T074445
CREATED:20240129T172955Z
LAST-MODIFIED:20240904T204917Z
UID:10000859-1726858800-1726864200@mocact.org
SUMMARY:Performing Arts at MoCA: Steven Feifke Trio – Jazz at Lincoln Center Emerging Artist
DESCRIPTION:Register now! \nStep into the electrifying world of jazz with GRAMMY-winning pianist and composer Steven Feifke. Celebrated by JAZZIZ and DownBeat magazine as one of today’s most exciting jazz artists\, Feifke is set to deliver a performance that’s more than just music—it’s a powerful\, immersive experience. \nFeifke’s dynamic performances have captivated audiences on FOX\, NBC\, and CBS\, and now he’s bringing his trio’s infectious rhythms to MoCA CT. This is your chance to witness a master at work\, blending classic jazz with fresh\, groundbreaking compositions that are redefining the genre. \nJoin us on September 20th for an unforgettable evening as Feifke and his trio transform MoCA into a vibrant musical haven. From soulful melodies to electrifying grooves\, each moment promises to take you on a journey through the rich tapestry of modern jazz. Be sure to arrive early\, starting at 6:30 PM\, to explore our current exhibition\, enjoy a drink\, and soak in the buzzing atmosphere before the music begins. Don’t miss this chance to witness jazz at its finest.
URL:https://mocact.org/events-calendar/performing-arts-at-moca-steven-feifke-trio-jazz-at-lincoln-center-emerging-artist/
LOCATION:MoCA Westport\, 19 Newtown Turnpike\, Westport\, CT\, 06880\, United States
CATEGORIES:Event,Performance
ATTACH;FMTTYPE=image/jpeg:https://mocact.org/wp-content/uploads/2024/01/Steven-Feifke-scaled-1.jpeg
END:VEVENT
END:VCALENDAR