BEGIN:VCALENDAR
VERSION:2.0
PRODID:-//MoCA CT - ECPv6.15.20//NONSGML v1.0//EN
CALSCALE:GREGORIAN
METHOD:PUBLISH
X-WR-CALNAME:MoCA CT
X-ORIGINAL-URL:https://mocact.org
X-WR-CALDESC:Events for MoCA CT
REFRESH-INTERVAL;VALUE=DURATION:PT1H
X-Robots-Tag:noindex
X-PUBLISHED-TTL:PT1H
BEGIN:VTIMEZONE
TZID:America/New_York
BEGIN:DAYLIGHT
TZOFFSETFROM:-0500
TZOFFSETTO:-0400
TZNAME:EDT
DTSTART:20230312T070000
END:DAYLIGHT
BEGIN:STANDARD
TZOFFSETFROM:-0400
TZOFFSETTO:-0500
TZNAME:EST
DTSTART:20231105T060000
END:STANDARD
BEGIN:DAYLIGHT
TZOFFSETFROM:-0500
TZOFFSETTO:-0400
TZNAME:EDT
DTSTART:20240310T070000
END:DAYLIGHT
BEGIN:STANDARD
TZOFFSETFROM:-0400
TZOFFSETTO:-0500
TZNAME:EST
DTSTART:20241103T060000
END:STANDARD
BEGIN:DAYLIGHT
TZOFFSETFROM:-0500
TZOFFSETTO:-0400
TZNAME:EDT
DTSTART:20250309T070000
END:DAYLIGHT
BEGIN:STANDARD
TZOFFSETFROM:-0400
TZOFFSETTO:-0500
TZNAME:EST
DTSTART:20251102T060000
END:STANDARD
END:VTIMEZONE
BEGIN:VEVENT
DTSTART;TZID=America/New_York:20240929T150000
DTEND;TZID=America/New_York:20240929T170000
DTSTAMP:20260423T042639
CREATED:20240916T142543Z
LAST-MODIFIED:20240917T182242Z
UID:10003278-1727622000-1727629200@mocact.org
SUMMARY:Mary Keating Book Launch Party
DESCRIPTION:Join us for a special event featuring Mary Keating and her memoir in verse\, Recalibrating Gravity. Come meet Mary\, enjoy a captivating reading\, and get your copy signed. The event will also mark a celebration of Spinal Cord Injury (SCI) Awareness Month. No registration required. \nAbout Recalibrating Gravity \nWelcome to the world of Mary Keating\, a quick-witted\, fun-loving paraplegic. (Note\, however\, that she cringes at being labeled.) Fifty years ago\, Mary’s wide-open world instantly contracted at age fifteen when a teenager drove her into an oak tree at maximum speed. With a wheelchair as a permanent accessory\, she was no longer seen as “hot” or one of the “in” crowd. She found herself transported into an alternate reality—defined now by her disability. \nWhen life becomes overwhelming\, Mary jokingly pretends she’s trapped in a bad B movie waiting for a new director. Her poetry collection reminds us\, no matter how hard life may seem—grace\, love\, and humor will save us from despair and allow us to live our best life under any circumstances. \nPurchase the book ahead of time. \nRead the book review from BookTrib. \nAbout Mary Keating\, Author \nMary Keating’s world turned upside down in 1973 when she became a paraplegic in a car accident at fifteen. Today\, she’s married\, a Yale Law School graduate with her own law firm\, an advocate for disability rights\, and a scuba diver. A three-time Pushcart nominee\, Mary is the Poetry Editor for ScribesMICRO. Her poems have appeared in several publications\, including Rattle\, Wordgathering\, Poetry for Ukraine\, and SFWP. She loves to share her poems at open mics and poetry groups. Mary has served as Chairperson for the Connecticut State Rehabilitation Council and as Vice President of the Rowayton Library. She is a Top Attorney of North America. Mary lives with her husband\, Danny\, in Rowayton\, Connecticut\, where they raised two beautiful black Labs from Guiding Eyes for the Blind. More than fifty years after her accident\, Mary continues to fight with humor and grace for the ability of the billion disabled people in the world to lead a full and rewarding life.
URL:https://mocact.org/events-calendar/mary-keating-book-talk-and-signing/
LOCATION:MoCA\CT\, 19 Newtown Turnpike\, Westport\, 06880\, United States
CATEGORIES:Event
ATTACH;FMTTYPE=image/jpeg:https://mocact.org/wp-content/uploads/2024/09/Recalibrating-Gravity.jpeg
END:VEVENT
END:VCALENDAR