BEGIN:VCALENDAR
VERSION:2.0
PRODID:-//MoCA CT - ECPv6.15.20//NONSGML v1.0//EN
CALSCALE:GREGORIAN
METHOD:PUBLISH
X-WR-CALNAME:MoCA CT
X-ORIGINAL-URL:https://mocact.org
X-WR-CALDESC:Events for MoCA CT
REFRESH-INTERVAL;VALUE=DURATION:PT1H
X-Robots-Tag:noindex
X-PUBLISHED-TTL:PT1H
BEGIN:VTIMEZONE
TZID:America/New_York
BEGIN:DAYLIGHT
TZOFFSETFROM:-0500
TZOFFSETTO:-0400
TZNAME:EDT
DTSTART:20230312T070000
END:DAYLIGHT
BEGIN:STANDARD
TZOFFSETFROM:-0400
TZOFFSETTO:-0500
TZNAME:EST
DTSTART:20231105T060000
END:STANDARD
BEGIN:DAYLIGHT
TZOFFSETFROM:-0500
TZOFFSETTO:-0400
TZNAME:EDT
DTSTART:20240310T070000
END:DAYLIGHT
BEGIN:STANDARD
TZOFFSETFROM:-0400
TZOFFSETTO:-0500
TZNAME:EST
DTSTART:20241103T060000
END:STANDARD
BEGIN:DAYLIGHT
TZOFFSETFROM:-0500
TZOFFSETTO:-0400
TZNAME:EDT
DTSTART:20250309T070000
END:DAYLIGHT
BEGIN:STANDARD
TZOFFSETFROM:-0400
TZOFFSETTO:-0500
TZNAME:EST
DTSTART:20251102T060000
END:STANDARD
END:VTIMEZONE
BEGIN:VEVENT
DTSTART;TZID=America/New_York:20241005T100000
DTEND;TZID=America/New_York:20241005T110000
DTSTAMP:20260423T115052
CREATED:20240822T174442Z
LAST-MODIFIED:20240822T174442Z
UID:10003240-1728122400-1728126000@mocact.org
SUMMARY:Imagination in Motion: A Creative Drawing Adventure
DESCRIPTION:Register Now. \nUnlock your child’s creativity in our weekend drawing class\, taught by an award-winning artist with a Master’s degree in the arts. This class is designed to give young learners a broad sampling of various art mediums\, allowing them to grow and experiment in their unique artistic journey. Using MoCA CT’s grounds\, garden\, and gallery exhibitions as inspiration\, students will explore various artistic mediums while developing their technical skills and discovering their own creative voice. \nStudents will explore the world of pen and ink\, pencils\, markers\, illustration\, and more. Through hands-on instruction\, they’ll learn essential skills such as color theory\, drawing techniques\, value\, shading\, and scale. This class is perfect for budding artists eager to develop their skills and express their creativity.
URL:https://mocact.org/events-calendar/imagination-in-motion-a-creative-drawing-adventure/2024-10-05/
LOCATION:MoCA\CT\, 19 Newtown Turnpike\, Westport\, 06880\, United States
CATEGORIES:Class,Event
ATTACH;FMTTYPE=image/jpeg:https://mocact.org/wp-content/uploads/2024/08/imagination-in-motion-class.jpeg
END:VEVENT
BEGIN:VEVENT
DTSTART;TZID=America/New_York:20241005T113000
DTEND;TZID=America/New_York:20241005T123000
DTSTAMP:20260423T115052
CREATED:20240820T170014Z
LAST-MODIFIED:20240820T170014Z
UID:10003234-1728127800-1728131400@mocact.org
SUMMARY:Canvas and Color: Acrylic and Watercolor Adventures
DESCRIPTION:Register Here.  \nIn this engaging class\, young artists will explore the world of acrylics and beginner watercolor painting. Drawing inspiration from MoCA CT’s grounds\, garden\, and gallery exhibitions\, students will learn the technical approaches to these mediums while discovering their own creative voice. \nUnlock your child’s creativity in our weekend painting class\, led by an award-winning artist with a Master’s degree in the arts. Through specific exercises\, students will enhance their painting skills\, focusing on color mixing\, composition\, and technique. This class is perfect for young learners eager to develop their artistic abilities in a supportive and inspiring environment.
URL:https://mocact.org/events-calendar/canvas-and-color-acrylic-and-watercolor-adventures/2024-10-05/
LOCATION:MoCA\CT\, 19 Newtown Turnpike\, Westport\, 06880\, United States
CATEGORIES:Class,Event
ATTACH;FMTTYPE=image/jpeg:https://mocact.org/wp-content/uploads/2024/08/canvas-and-colors.jpeg
END:VEVENT
BEGIN:VEVENT
DTSTART;TZID=America/New_York:20241005T130000
DTEND;TZID=America/New_York:20241005T143000
DTSTAMP:20260423T115052
CREATED:20250829T152507Z
LAST-MODIFIED:20250829T152507Z
UID:10004612-1728133200-1728138600@mocact.org
SUMMARY:Docent-Led Exhibition Tour
DESCRIPTION:Learn more about the current exhibition from an expert docent. No advance registration required; all tours included in Museum admission. Remember\, gallery admission is FREE for MoCA Members.
URL:https://mocact.org/events-calendar/docent-led-exhibition-tour-4/2024-10-05/
LOCATION:MoCA\CT\, 19 Newtown Turnpike\, Westport\, 06880\, United States
CATEGORIES:Event,Exhibition
ATTACH;FMTTYPE=image/jpeg:https://mocact.org/wp-content/uploads/2024/06/Docent-Tour.jpeg
END:VEVENT
BEGIN:VEVENT
DTSTART;TZID=America/New_York:20241005T190000
DTEND;TZID=America/New_York:20241005T203000
DTSTAMP:20260423T115052
CREATED:20240129T172715Z
LAST-MODIFIED:20240910T183949Z
UID:10000858-1728154800-1728160200@mocact.org
SUMMARY:Performing Arts at MoCA: Sean Lee & John Bitoy
DESCRIPTION:Register now! \nWaltz into a night of classical brilliance with a modern edge with the extraordinary talents of American violinist Sean Lee and Afro-Dominican pianist John Bitoy\, two visionaries pushing the boundaries of the genre. \nSean Lee\, renowned for his electrifying live performances of Paganini’s Caprices\, has shared the stage with icons like Itzhak Perlman and has The New York Times praising his performances as “breathtakingly beautiful.” John Bitoy\, celebrated for his dynamic interpretation of both classical and contemporary works\, brings a fresh perspective\, championing composers from the African diaspora with a dynamic flair that has mesmerized audiences from the Chicago Symphony Center to Andy’s Jazz Club. \nWhen these two trailblazers come together\, expect a night of music that’s not just innovative but utterly transformative. \nJoin us early at 6:30 PM to dive into our current exhibition and savor a pre-concert drink\, all within the lively\, art-filled ambiance of MoCA. This is more than a concert—it’s an experience. Grab your tickets\, break away from the ordinary\, and embrace the future of classical music.
URL:https://mocact.org/events-calendar/performing-arts-at-moca-sean-lee-john-bitoy/
LOCATION:MoCA Westport\, 19 Newtown Turnpike\, Westport\, CT\, 06880\, United States
CATEGORIES:Event,Performance
ATTACH;FMTTYPE=image/png:https://mocact.org/wp-content/uploads/2024/01/Sean-LeeJohn-Bitoy-1.png
END:VEVENT
END:VCALENDAR