BEGIN:VCALENDAR
VERSION:2.0
PRODID:-//MoCA CT - ECPv6.15.20//NONSGML v1.0//EN
CALSCALE:GREGORIAN
METHOD:PUBLISH
X-ORIGINAL-URL:https://mocact.org
X-WR-CALDESC:Events for MoCA CT
REFRESH-INTERVAL;VALUE=DURATION:PT1H
X-Robots-Tag:noindex
X-PUBLISHED-TTL:PT1H
BEGIN:VTIMEZONE
TZID:America/New_York
BEGIN:DAYLIGHT
TZOFFSETFROM:-0500
TZOFFSETTO:-0400
TZNAME:EDT
DTSTART:20230312T070000
END:DAYLIGHT
BEGIN:STANDARD
TZOFFSETFROM:-0400
TZOFFSETTO:-0500
TZNAME:EST
DTSTART:20231105T060000
END:STANDARD
BEGIN:DAYLIGHT
TZOFFSETFROM:-0500
TZOFFSETTO:-0400
TZNAME:EDT
DTSTART:20240310T070000
END:DAYLIGHT
BEGIN:STANDARD
TZOFFSETFROM:-0400
TZOFFSETTO:-0500
TZNAME:EST
DTSTART:20241103T060000
END:STANDARD
BEGIN:DAYLIGHT
TZOFFSETFROM:-0500
TZOFFSETTO:-0400
TZNAME:EDT
DTSTART:20250309T070000
END:DAYLIGHT
BEGIN:STANDARD
TZOFFSETFROM:-0400
TZOFFSETTO:-0500
TZNAME:EST
DTSTART:20251102T060000
END:STANDARD
END:VTIMEZONE
BEGIN:VEVENT
DTSTART;TZID=America/New_York:20241017T170000
DTEND;TZID=America/New_York:20241017T190000
DTSTAMP:20260419T123700
CREATED:20240923T170301Z
LAST-MODIFIED:20240923T170301Z
UID:10003282-1729184400-1729191600@mocact.org
SUMMARY:ColleCTomania: Collector and Curators Tour
DESCRIPTION:Get ready for an insider’s look at “ColleCTomania” with collector Tom Strong and curators Pamela Hovland and Karen Salsgiver.\n\nThis tour is your chance to hear the untold stories behind the collections and dive into the art of curation. Plus\, we’ve got something new\, freshly installed Munich Olympic posters in the Pacer Room\, adding a bold layer to the exhibit. Whether you’re an art collector at heart or simply curious\, this is where you’ll find connection and inspiration. Join us for an evening of conversation and discovery.\n\nRegister Here. 
URL:https://mocact.org/events-calendar/collectomania-collector-and-curators-tour/
LOCATION:MoCA\CT\, 19 Newtown Turnpike\, Westport\, 06880\, United States
CATEGORIES:Event,Exhibition
ATTACH;FMTTYPE=image/jpeg:https://mocact.org/wp-content/uploads/2024/09/ColleCTomania-Social-Media-Gallery-Tour-10.17.24.jpg
END:VEVENT
END:VCALENDAR