BEGIN:VCALENDAR
VERSION:2.0
PRODID:-//MoCA CT - ECPv6.15.20//NONSGML v1.0//EN
CALSCALE:GREGORIAN
METHOD:PUBLISH
X-ORIGINAL-URL:https://mocact.org
X-WR-CALDESC:Events for MoCA CT
REFRESH-INTERVAL;VALUE=DURATION:PT1H
X-Robots-Tag:noindex
X-PUBLISHED-TTL:PT1H
BEGIN:VTIMEZONE
TZID:America/New_York
BEGIN:DAYLIGHT
TZOFFSETFROM:-0500
TZOFFSETTO:-0400
TZNAME:EDT
DTSTART:20230312T070000
END:DAYLIGHT
BEGIN:STANDARD
TZOFFSETFROM:-0400
TZOFFSETTO:-0500
TZNAME:EST
DTSTART:20231105T060000
END:STANDARD
BEGIN:DAYLIGHT
TZOFFSETFROM:-0500
TZOFFSETTO:-0400
TZNAME:EDT
DTSTART:20240310T070000
END:DAYLIGHT
BEGIN:STANDARD
TZOFFSETFROM:-0400
TZOFFSETTO:-0500
TZNAME:EST
DTSTART:20241103T060000
END:STANDARD
BEGIN:DAYLIGHT
TZOFFSETFROM:-0500
TZOFFSETTO:-0400
TZNAME:EDT
DTSTART:20250309T070000
END:DAYLIGHT
BEGIN:STANDARD
TZOFFSETFROM:-0400
TZOFFSETTO:-0500
TZNAME:EST
DTSTART:20251102T060000
END:STANDARD
END:VTIMEZONE
BEGIN:VEVENT
DTSTART;VALUE=DATE:20241123
DTEND;VALUE=DATE:20241124
DTSTAMP:20260423T141830
CREATED:20241108T235815Z
LAST-MODIFIED:20251126T174614Z
UID:10004417-1732348800-1732381200@mocact.org
SUMMARY:The 2024 Heida Hermanns International Music Competition
DESCRIPTION:Join us for an exhilarating evening of music and artistry at the Heida Hermanns Piano Competition. Experience the brilliance of our three finalists as they perform captivating pieces\, including a specially commissioned work by renowned American composer Lowell Liebermann. Click here for more information about the Heida. \nBuy Tickets Here. \nThis two-day extravaganza is more than a competition—it’s a celebration of piano artistry featuring world-renowned judges\, special events\, and opportunities to immerse yourself in the vibrant world of classical music. \nFriday\, November 22 \n\n6:00 PM – 6:45 PM: Welcome Reception with Hors d’oeuvres\n\nBegin the evening mingling with fellow enthusiasts and perhaps catch a glimpse of our esteemed jury and finalists. \n\n7:00 PM – 9:45 PM: Finalists’ Performances\n\nExperience the exceptional talent of our three finalists. Witness the future of classical music as they showcase their technical mastery and artistic expression. \n\n7:00 PM – 7:45 PM: Performance by Finalist 1\n8:00 PM – 8:45 PM: Performance by Finalist 2\n9:00 PM – 9:45 PM: Performance by Finalist 3\n\nSaturday\, November 23 \n\n5:00 PM – 6:00 PM: Mini Recital and Book Talk by Inna Faliks\n\nJoin Heida Final Round Judge Inna Faliks for an intimate recital and insightful discussion about her new memoir\, Weight in the Fingertips. Gain personal insights into her journey from Soviet Ukraine to the world stage\, and how her experiences have shaped her illustrious career. \n\n6:00 PM – 7:00 PM: Hors d’oeuvres and Cocktails\n\nEnjoy delightful food and drinks while engaging in conversations with fellow guests\, the jury\, and the finalists. It’s a perfect opportunity to share your passion for music with other like-minded people. \n\n7:00 PM – 9:00 PM: Judges’ Performance and Awards Announcement\n\nBe captivated by exclusive performances from our prestigious jury members: \n\nFrederic Chiu\nMiki Aoki\nJulia Siciliano\nAlexei Tartakovsky\n\nThe 2024 Heida Hermanns International Music Competition\, hosted by MoCA CT\, is for talented pianists ages 18-35 worldwide to compete. We aim to showcase exceptional piano performances and promote music entrepreneurship in musicians. The competition includes an online preliminary round and an in-person final round where participants demonstrate their technical prowess\, interpretive skills\, and musical expression. It’s a platform for emerging artists to gain recognition and connect with the global music community. \nThe winner receives a cash prize of $10\,000; second prize is $5\,000\, and third prize is $2\,500. This year’s prizes are generously sponsored by Norman and Suzanne Sorensen. In addition to a cash prize\, the Winner will receive an invitation to perform a solo recital at MoCA CT the following year. Finalists will be provided with transportation accommodations and lodging with a host family for the final round. \n  \nCelebrating Lowell Liebermann’s ‘Nocturne No. 12’ at the 2024 Heida Hermanns Competition\n\nAt once unabashedly romantic and modern\, American composer Lowell Liebermann is internationally recognized as an artist of uncommon profundity and popularity. Time Magazine proclaimed: “Now brazen and glittering\, now radiantly visionary…the work of a composer unafraid of grand gestures and openhearted lyricism.”The 2024 Heida Hermanns International Music Competition will feature Lowell Liebermann’s commissioned piece\, “Nocturne No. 12\,” marking the first time the Heida Competition has commissioned a work. This decision highlights our commitment to fostering creativity and showcasing contemporary talent. Liebermann’s distinctive style\, characterized by rich harmonies and evocative melodies\, resonates deeply with audiences\, making his work both accessible and thought-provoking. “Nocturne No. 12” will be performed by all finalists\, enriching our program and celebrating diverse musical voices. This inclusion not only underscores our dedication to innovation but also offers a fresh perspective on modern composition. We are most grateful to the Maurer Foundation for their gracious support of this endeavor.
URL:https://mocact.org/events-calendar/the-2024-heida-hermanns-international-music-competition/2024-11-23/
LOCATION:MoCA\CT\, 19 Newtown Turnpike\, Westport\, 06880\, United States
ATTACH;FMTTYPE=image/png:https://mocact.org/wp-content/uploads/2024/11/FINALISTS-1.png
END:VEVENT
BEGIN:VEVENT
DTSTART;TZID=America/New_York:20241123T130000
DTEND;TZID=America/New_York:20241123T143000
DTSTAMP:20260423T141830
CREATED:20250829T152507Z
LAST-MODIFIED:20250829T152507Z
UID:10004626-1732366800-1732372200@mocact.org
SUMMARY:Docent-Led Exhibition Tour
DESCRIPTION:Learn more about the current exhibition from an expert docent. No advance registration required; all tours included in Museum admission. Remember\, gallery admission is FREE for MoCA Members.
URL:https://mocact.org/events-calendar/docent-led-exhibition-tour-4/2024-11-23/
LOCATION:MoCA\CT\, 19 Newtown Turnpike\, Westport\, 06880\, United States
CATEGORIES:Event,Exhibition
ATTACH;FMTTYPE=image/jpeg:https://mocact.org/wp-content/uploads/2024/06/Docent-Tour.jpeg
END:VEVENT
END:VCALENDAR