BEGIN:VCALENDAR
VERSION:2.0
PRODID:-//MoCA CT - ECPv6.15.20//NONSGML v1.0//EN
CALSCALE:GREGORIAN
METHOD:PUBLISH
X-WR-CALNAME:MoCA CT
X-ORIGINAL-URL:https://mocact.org
X-WR-CALDESC:Events for MoCA CT
REFRESH-INTERVAL;VALUE=DURATION:PT1H
X-Robots-Tag:noindex
X-PUBLISHED-TTL:PT1H
BEGIN:VTIMEZONE
TZID:America/New_York
BEGIN:DAYLIGHT
TZOFFSETFROM:-0500
TZOFFSETTO:-0400
TZNAME:EDT
DTSTART:20240310T070000
END:DAYLIGHT
BEGIN:STANDARD
TZOFFSETFROM:-0400
TZOFFSETTO:-0500
TZNAME:EST
DTSTART:20241103T060000
END:STANDARD
BEGIN:DAYLIGHT
TZOFFSETFROM:-0500
TZOFFSETTO:-0400
TZNAME:EDT
DTSTART:20250309T070000
END:DAYLIGHT
BEGIN:STANDARD
TZOFFSETFROM:-0400
TZOFFSETTO:-0500
TZNAME:EST
DTSTART:20251102T060000
END:STANDARD
BEGIN:DAYLIGHT
TZOFFSETFROM:-0500
TZOFFSETTO:-0400
TZNAME:EDT
DTSTART:20260308T070000
END:DAYLIGHT
BEGIN:STANDARD
TZOFFSETFROM:-0400
TZOFFSETTO:-0500
TZNAME:EST
DTSTART:20261101T060000
END:STANDARD
END:VTIMEZONE
BEGIN:VEVENT
DTSTART;TZID=America/New_York:20250221T093000
DTEND;TZID=America/New_York:20250221T143000
DTSTAMP:20260423T164812
CREATED:20240808T164612Z
LAST-MODIFIED:20240809T154157Z
UID:10003215-1740130200-1740148200@mocact.org
SUMMARY:February/Winter Break 2/17-21 Recess Art Camps
DESCRIPTION:Looking for an opportunity for your child to create\, develop skills\, and enjoy winter break with friends? Come enjoy a day or the whole week at MoCA CT. Your child will have a creative and fun-filled winter break at MoCA CT! \nFull Day Session – Register here. \n\nWho: Kindergarten – 5th graders\nWhen: Full day (9:30 AM – 2:30 PM) any or all days during the week of February 17th – 21st. Priced by day.\nWhat to pack: A nut-free snack\, lunch\, and a water bottle\nWhat to wear: Clothing that can get messy\nImportant: All participants must be fully potty trained to attend\n\nAM Session – Register here. \n\nWho: Nursery – 1st graders\nWhen: Full day (9:30 AM – 11:30 AM) any or all days during the week of February 17th – 21st. Priced by day.\nWhat to pack: A nut-free snack\, lunch\, and a water bottle\nWhat to wear: Clothing that can get messy\nImportant: All participants must be fully potty trained to attend
URL:https://mocact.org/events-calendar/february-winter-break-2-17-21-recess-art-camps/2025-02-21/
LOCATION:MoCA\CT\, 19 Newtown Turnpike\, Westport\, 06880\, United States
CATEGORIES:Class,Event
END:VEVENT
BEGIN:VEVENT
DTSTART;TZID=America/New_York:20250221T183000
DTEND;TZID=America/New_York:20250221T200000
DTSTAMP:20260423T164812
CREATED:20250120T013012Z
LAST-MODIFIED:20250120T013701Z
UID:10004425-1740162600-1740168000@mocact.org
SUMMARY:MoCA Some Noise: Open Mic Night
DESCRIPTION:Register to participate or attend here. \nJoin us for an Open Mic night at MoCA CT featuring acoustic music\, poetry\, and slam poetry on Friday\, February 21 from 6:30-8:00 PM. Everyone is invited to participate and attend. \nOpen Mic night is FREE for Members to watch; MoCA Member Participation is FREE; General Admission $10; Participation Fee $5 \nTo give everyone their time to shine\, we ask that all participants keep their set to 5 minutes max.  \nContact Kristen at kristen@mocact.org with questions.
URL:https://mocact.org/events-calendar/moca-some-noise-open-mic-night-8/
LOCATION:MoCA\CT\, 19 Newtown Turnpike\, Westport\, 06880\, United States
CATEGORIES:Event
ATTACH;FMTTYPE=image/png:https://mocact.org/wp-content/uploads/2025/01/moca-some-noise.png
END:VEVENT
END:VCALENDAR