BEGIN:VCALENDAR
VERSION:2.0
PRODID:-//MoCA CT - ECPv6.15.20//NONSGML v1.0//EN
CALSCALE:GREGORIAN
METHOD:PUBLISH
X-ORIGINAL-URL:https://mocact.org
X-WR-CALDESC:Events for MoCA CT
REFRESH-INTERVAL;VALUE=DURATION:PT1H
X-Robots-Tag:noindex
X-PUBLISHED-TTL:PT1H
BEGIN:VTIMEZONE
TZID:America/New_York
BEGIN:DAYLIGHT
TZOFFSETFROM:-0500
TZOFFSETTO:-0400
TZNAME:EDT
DTSTART:20240310T070000
END:DAYLIGHT
BEGIN:STANDARD
TZOFFSETFROM:-0400
TZOFFSETTO:-0500
TZNAME:EST
DTSTART:20241103T060000
END:STANDARD
BEGIN:DAYLIGHT
TZOFFSETFROM:-0500
TZOFFSETTO:-0400
TZNAME:EDT
DTSTART:20250309T070000
END:DAYLIGHT
BEGIN:STANDARD
TZOFFSETFROM:-0400
TZOFFSETTO:-0500
TZNAME:EST
DTSTART:20251102T060000
END:STANDARD
BEGIN:DAYLIGHT
TZOFFSETFROM:-0500
TZOFFSETTO:-0400
TZNAME:EDT
DTSTART:20260308T070000
END:DAYLIGHT
BEGIN:STANDARD
TZOFFSETFROM:-0400
TZOFFSETTO:-0500
TZNAME:EST
DTSTART:20261101T060000
END:STANDARD
END:VTIMEZONE
BEGIN:VEVENT
DTSTART;TZID=America/New_York:20250417T093000
DTEND;TZID=America/New_York:20250417T143000
DTSTAMP:20260423T181043
CREATED:20240808T163936Z
LAST-MODIFIED:20240808T164334Z
UID:10002844-1744882200-1744900200@mocact.org
SUMMARY:Spring Break 4/14-18 Recess Art Camps
DESCRIPTION:AM Session: \nLooking for an opportunity for your child to discover new artistic interests\, develop skills\, and enjoy spring break with friends? Come enjoy a day or the whole week at MoCA CT over spring break! Priced per day. \nWho: Nursery – 1st graders \nWhen: Full day (9:30 AM – 11:30 AM) during the week of April 14th \nWhat to pack: A nut-free snack\, lunch\, and a water bottle \nWhat to wear: Clothing that can get messy \nImportant: All participants must be fully potty trained to attend \nYour child will have a fantastic and creative spring break at MoCA CT! \nRegister here! \nFull Day Session: \nLooking for an opportunity for your child to discover new artistic interests\, develop skills\, and enjoy spring break with friends? Come enjoy a day or the whole week at MoCA CT over spring break! Priced per day. \nWho: Kindergarten – 5rd graders \nWhen: Full day (9:30 AM – 2:30 PM) during the week of April 14th \nWhat to pack: A nut-free snack\, lunch\, and a water bottle \nWhat to wear: Clothing that can get messy \nImportant: All participants must be fully potty trained to attend \nYour child will have a fantastic and creative spring break at MoCA CT! \nRegister here!
URL:https://mocact.org/events-calendar/spring-break-4-14-18-recess-art-camps/2025-04-17/
LOCATION:MoCA\CT\, 19 Newtown Turnpike\, Westport\, 06880\, United States
CATEGORIES:Class,Event
END:VEVENT
BEGIN:VEVENT
DTSTART;TZID=America/New_York:20250417T173000
DTEND;TZID=America/New_York:20250417T193000
DTSTAMP:20260423T181043
CREATED:20250310T172551Z
LAST-MODIFIED:20250310T172551Z
UID:10004482-1744911000-1744918200@mocact.org
SUMMARY:Teen Workshop: Zine-making with Adam Weisblatt
DESCRIPTION:WHEN: Thursday\, April 17\, 2025\, 5:30-7:30 PM\nPRICE: $50.00/person\nWHERE: MoCA Art Academy\nWHO: All teens welcome! \nRegister Here. \nUnleash your creativity and craft your own personal zine in this hands-on workshop\, inspired by Banks Violette: American Standard. Reflecting aspects of Violette’s art practice\, this session embraces the raw\, DIY aesthetic and the power of personal storytelling. You’ll explore how to capture where you are in your journey by collecting thoughts\, favorite images\, and inspirations into an 8-page mini-booklet. Using a mix of analog and digital techniques\, you’ll learn to lay out pages\, combine digital typesetting with hand-drawn elements\, and integrate photographs and collage for a unique\, expressive design. Whether you write\, draw\, or reflect in your own way\, this workshop provides the tools to bring your vision to life in print. Participants are encouraged to explore the exhibition beforehand for inspiration.
URL:https://mocact.org/events-calendar/zine-workshop/
LOCATION:MoCA\CT\, 19 Newtown Turnpike\, Westport\, 06880\, United States
CATEGORIES:Event,Exhibition
ATTACH;FMTTYPE=image/jpeg:https://mocact.org/wp-content/uploads/2025/03/zine-aw-workshop-copy.jpg
END:VEVENT
END:VCALENDAR