BEGIN:VCALENDAR
VERSION:2.0
PRODID:-//MoCA CT - ECPv6.15.20//NONSGML v1.0//EN
CALSCALE:GREGORIAN
METHOD:PUBLISH
X-WR-CALNAME:MoCA CT
X-ORIGINAL-URL:https://mocact.org
X-WR-CALDESC:Events for MoCA CT
REFRESH-INTERVAL;VALUE=DURATION:PT1H
X-Robots-Tag:noindex
X-PUBLISHED-TTL:PT1H
BEGIN:VTIMEZONE
TZID:America/New_York
BEGIN:DAYLIGHT
TZOFFSETFROM:-0500
TZOFFSETTO:-0400
TZNAME:EDT
DTSTART:20240310T070000
END:DAYLIGHT
BEGIN:STANDARD
TZOFFSETFROM:-0400
TZOFFSETTO:-0500
TZNAME:EST
DTSTART:20241103T060000
END:STANDARD
BEGIN:DAYLIGHT
TZOFFSETFROM:-0500
TZOFFSETTO:-0400
TZNAME:EDT
DTSTART:20250309T070000
END:DAYLIGHT
BEGIN:STANDARD
TZOFFSETFROM:-0400
TZOFFSETTO:-0500
TZNAME:EST
DTSTART:20251102T060000
END:STANDARD
BEGIN:DAYLIGHT
TZOFFSETFROM:-0500
TZOFFSETTO:-0400
TZNAME:EDT
DTSTART:20260308T070000
END:DAYLIGHT
BEGIN:STANDARD
TZOFFSETFROM:-0400
TZOFFSETTO:-0500
TZNAME:EST
DTSTART:20261101T060000
END:STANDARD
END:VTIMEZONE
BEGIN:VEVENT
DTSTART;TZID=America/New_York:20250521T120000
DTEND;TZID=America/New_York:20250521T133000
DTSTAMP:20260423T141540
CREATED:20250328T142907Z
LAST-MODIFIED:20250328T142907Z
UID:10004497-1747828800-1747834200@mocact.org
SUMMARY:Lunch & Learn: An Interactive iPhone Editing Workshop
DESCRIPTION:Come and enjoy a lunchtime Masterclass with Jane Beiles\, acclaimed photographer for publications including The New York Times\, Architectural Digest and House Beautiful. \nThis class is designed for any\, and all\, levels of photographers seeking to elevate their game. Participants will learn how to edit existing photos with the best practices standard to professional imagery. Jane will teach the key editing components and how to put them to use in order to improve your frames for personal or professional use. \nTakeaways will include a valuable toolkit to both enhance the photos in existing libraries plus informed knowledge to capture better frames in the future. Once registered\, if you like\, you will have the opportunity to submit an existing photo of yours which may be chosen as one of the frames to be used as a demonstrative learning tool for the class. \nJane’s classes are known to be both content-rich and joyful\, with valuable educational kernels and more than a few laughs in the mix! \nThe class will be taught on an iphone 16 but nearly all of the elements will be translatable to earlier models as well as to other manufacturers’ devices*. A brief touch on the new features on the 16 model will be helpful to new users or give owners of older versions information to decide if the investment in a new phone is worthwhile. \n*if you are not an iphone user\, you should be familiar enough with the analogous settings and navigation on your device as all instructions will be from the IOS perspective. \nPlease register & BYO Lunch! \nWhen: May 21\, 2025\nWhere: MoCA\CT Art Studio\nWho: Adult class\nCost: $75.00/person
URL:https://mocact.org/events-calendar/lunch-learn-an-interactive-iphone-editing-workshop/
LOCATION:MoCA\CT\, 19 Newtown Turnpike\, Westport\, 06880\, United States
CATEGORIES:Class
END:VEVENT
BEGIN:VEVENT
DTSTART;TZID=America/New_York:20250521T120000
DTEND;TZID=America/New_York:20250521T133000
DTSTAMP:20260423T141540
CREATED:20250407T190413Z
LAST-MODIFIED:20250407T190413Z
UID:10004498-1747828800-1747834200@mocact.org
SUMMARY:Lunch & Learn: An Interactive iPhone Editing Workshop
DESCRIPTION:Come and enjoy a lunchtime Masterclass with Jane Beiles\, acclaimed photographer for publications including The New York Times\, Architectural Digest and House Beautiful. \nThis class is designed for any\, and all\, levels of photographers seeking to elevate their game. Participants will learn how to edit existing photos with the best practices standard to professional imagery. Jane will teach the key editing components and how to put them to use in order to improve your frames for personal or professional use. \nTakeaways will include a valuable toolkit to both enhance the photos in existing libraries plus informed knowledge to capture better frames in the future. Once registered\, if you like\, you will have the opportunity to submit an existing photo of yours which may be chosen as one of the frames to be used as a demonstrative learning tool for the class. \nJane’s classes are known to be both content-rich and joyful\, with valuable educational kernels and more than a few laughs in the mix! \nThe class will be taught on an iPhone 16 but nearly all of the elements will be translatable to earlier models as well as to other manufacturers’ devices*. A brief touch on the new features on the 16 model will be helpful to new users or give owners of older versions information to decide if the investment in a new phone is worthwhile. \n*if you are not an iPhone user\, you should be familiar enough with the analogous settings and navigation on your device as all instructions will be from the IOS perspective. \nPlease register & BYO Lunch! \nWhen: May 21\, 2025\nWhere: MoCA\CT Art Studio\nWho: Adult class\nCost: $75.00/person
URL:https://mocact.org/events-calendar/lunch-learn-an-interactive-iphone-editing-workshop-2/
LOCATION:MoCA\CT\, 19 Newtown Turnpike\, Westport\, 06880\, United States
CATEGORIES:Class,Event
ATTACH;FMTTYPE=image/png:https://mocact.org/wp-content/uploads/2025/04/download.png
END:VEVENT
END:VCALENDAR