BEGIN:VCALENDAR
VERSION:2.0
PRODID:-//MoCA CT - ECPv6.15.20//NONSGML v1.0//EN
CALSCALE:GREGORIAN
METHOD:PUBLISH
X-WR-CALNAME:MoCA CT
X-ORIGINAL-URL:https://mocact.org
X-WR-CALDESC:Events for MoCA CT
REFRESH-INTERVAL;VALUE=DURATION:PT1H
X-Robots-Tag:noindex
X-PUBLISHED-TTL:PT1H
BEGIN:VTIMEZONE
TZID:America/New_York
BEGIN:DAYLIGHT
TZOFFSETFROM:-0500
TZOFFSETTO:-0400
TZNAME:EDT
DTSTART:20250309T070000
END:DAYLIGHT
BEGIN:STANDARD
TZOFFSETFROM:-0400
TZOFFSETTO:-0500
TZNAME:EST
DTSTART:20251102T060000
END:STANDARD
BEGIN:DAYLIGHT
TZOFFSETFROM:-0500
TZOFFSETTO:-0400
TZNAME:EDT
DTSTART:20260308T070000
END:DAYLIGHT
BEGIN:STANDARD
TZOFFSETFROM:-0400
TZOFFSETTO:-0500
TZNAME:EST
DTSTART:20261101T060000
END:STANDARD
BEGIN:DAYLIGHT
TZOFFSETFROM:-0500
TZOFFSETTO:-0400
TZNAME:EDT
DTSTART:20270314T070000
END:DAYLIGHT
BEGIN:STANDARD
TZOFFSETFROM:-0400
TZOFFSETTO:-0500
TZNAME:EST
DTSTART:20271107T060000
END:STANDARD
END:VTIMEZONE
BEGIN:VEVENT
DTSTART;TZID=America/New_York:20260423T193000
DTEND;TZID=America/New_York:20260423T203000
DTSTAMP:20260423T024923
CREATED:20260330T202627Z
LAST-MODIFIED:20260420T142636Z
UID:10005635-1776972600-1776976200@mocact.org
SUMMARY:ECCB Salon Series
DESCRIPTION:  \nEast Coast Contemporary Ballet returns to MoCA with an excerpt from their upcoming Spring Season that will be followed by an artist talk-back with the audience. \nECCB’s dynamic mixed repertory season includes a premiere that is currently being created in collaboration with Italian artist Luca Serasini and is inspired by his sculpture “Waiting for Angels.” This contemporary ballet will delve into the modern-day anticipation for help and guidance in the face of personal and societal anxieties. The work will inspire audiences to ask themselves\, In what ways do we have agency over our future and how impactful is the sentiment of hope in our darkest moments? \nDon’t miss this intimate evening of captivating contemporary dance and a rare opportunity to explore a work in progress and speak directly with the choreographers and dancers. \nTickets
URL:https://mocact.org/events-calendar/eccb-salon-series/
LOCATION:MoCA\CT\, 19 Newtown Turnpike\, Westport\, 06880\, United States
CATEGORIES:Event
ATTACH;FMTTYPE=image/jpeg:https://mocact.org/wp-content/uploads/2026/03/DSC06709-scaled.jpg
END:VEVENT
END:VCALENDAR