BEGIN:VCALENDAR
VERSION:2.0
PRODID:-//MoCA CT - ECPv6.15.20//NONSGML v1.0//EN
CALSCALE:GREGORIAN
METHOD:PUBLISH
X-ORIGINAL-URL:https://mocact.org
X-WR-CALDESC:Events for MoCA CT
REFRESH-INTERVAL;VALUE=DURATION:PT1H
X-Robots-Tag:noindex
X-PUBLISHED-TTL:PT1H
BEGIN:VTIMEZONE
TZID:America/New_York
BEGIN:DAYLIGHT
TZOFFSETFROM:-0500
TZOFFSETTO:-0400
TZNAME:EDT
DTSTART:20280312T070000
END:DAYLIGHT
BEGIN:STANDARD
TZOFFSETFROM:-0400
TZOFFSETTO:-0500
TZNAME:EST
DTSTART:20281105T060000
END:STANDARD
BEGIN:DAYLIGHT
TZOFFSETFROM:-0500
TZOFFSETTO:-0400
TZNAME:EDT
DTSTART:20290311T070000
END:DAYLIGHT
BEGIN:STANDARD
TZOFFSETFROM:-0400
TZOFFSETTO:-0500
TZNAME:EST
DTSTART:20291104T060000
END:STANDARD
BEGIN:DAYLIGHT
TZOFFSETFROM:-0500
TZOFFSETTO:-0400
TZNAME:EDT
DTSTART:20300310T070000
END:DAYLIGHT
BEGIN:STANDARD
TZOFFSETFROM:-0400
TZOFFSETTO:-0500
TZNAME:EST
DTSTART:20301103T060000
END:STANDARD
BEGIN:DAYLIGHT
TZOFFSETFROM:-0500
TZOFFSETTO:-0400
TZNAME:EDT
DTSTART:20310309T070000
END:DAYLIGHT
BEGIN:STANDARD
TZOFFSETFROM:-0400
TZOFFSETTO:-0500
TZNAME:EST
DTSTART:20311102T060000
END:STANDARD
END:VTIMEZONE
BEGIN:VEVENT
DTSTART;TZID=America/New_York:20291110T120000
DTEND;TZID=America/New_York:20291110T133000
DTSTAMP:20260423T125457
CREATED:20260423T155023Z
LAST-MODIFIED:20260423T155023Z
UID:10005559-1889006400-1889011800@mocact.org
SUMMARY:Art Adventures
DESCRIPTION:Book Now: https://secure.qgiv.com/for/mocactevents/event/aadventure/ \nYour child can join us every Saturday for a relaxed and inspiring drop-in art class at the museum! \nMoCA/CT Art Studio Classroom – entrance in back\n$25.00/per child\nAges 4+
URL:https://mocact.org/events-calendar/art-adventures-4-2-6/2029-11-10/
LOCATION:MoCA\CT\, 19 Newtown Turnpike\, Westport\, 06880\, United States
CATEGORIES:Event
END:VEVENT
BEGIN:VEVENT
DTSTART;TZID=America/New_York:20291117T120000
DTEND;TZID=America/New_York:20291117T133000
DTSTAMP:20260423T125457
CREATED:20260423T155023Z
LAST-MODIFIED:20260423T155023Z
UID:10005560-1889611200-1889616600@mocact.org
SUMMARY:Art Adventures
DESCRIPTION:Book Now: https://secure.qgiv.com/for/mocactevents/event/aadventure/ \nYour child can join us every Saturday for a relaxed and inspiring drop-in art class at the museum! \nMoCA/CT Art Studio Classroom – entrance in back\n$25.00/per child\nAges 4+
URL:https://mocact.org/events-calendar/art-adventures-4-2-6/2029-11-17/
LOCATION:MoCA\CT\, 19 Newtown Turnpike\, Westport\, 06880\, United States
CATEGORIES:Event
END:VEVENT
BEGIN:VEVENT
DTSTART;TZID=America/New_York:20291124T120000
DTEND;TZID=America/New_York:20291124T133000
DTSTAMP:20260423T125457
CREATED:20260423T155023Z
LAST-MODIFIED:20260423T155023Z
UID:10005561-1890216000-1890221400@mocact.org
SUMMARY:Art Adventures
DESCRIPTION:Book Now: https://secure.qgiv.com/for/mocactevents/event/aadventure/ \nYour child can join us every Saturday for a relaxed and inspiring drop-in art class at the museum! \nMoCA/CT Art Studio Classroom – entrance in back\n$25.00/per child\nAges 4+
URL:https://mocact.org/events-calendar/art-adventures-4-2-6/2029-11-24/
LOCATION:MoCA\CT\, 19 Newtown Turnpike\, Westport\, 06880\, United States
CATEGORIES:Event
END:VEVENT
BEGIN:VEVENT
DTSTART;TZID=America/New_York:20291201T120000
DTEND;TZID=America/New_York:20291201T133000
DTSTAMP:20260423T125457
CREATED:20260423T155023Z
LAST-MODIFIED:20260423T155023Z
UID:10005562-1890820800-1890826200@mocact.org
SUMMARY:Art Adventures
DESCRIPTION:Book Now: https://secure.qgiv.com/for/mocactevents/event/aadventure/ \nYour child can join us every Saturday for a relaxed and inspiring drop-in art class at the museum! \nMoCA/CT Art Studio Classroom – entrance in back\n$25.00/per child\nAges 4+
URL:https://mocact.org/events-calendar/art-adventures-4-2-6/2029-12-01/
LOCATION:MoCA\CT\, 19 Newtown Turnpike\, Westport\, 06880\, United States
CATEGORIES:Event
END:VEVENT
BEGIN:VEVENT
DTSTART;TZID=America/New_York:20291208T120000
DTEND;TZID=America/New_York:20291208T133000
DTSTAMP:20260423T125457
CREATED:20260423T155023Z
LAST-MODIFIED:20260423T155023Z
UID:10005563-1891425600-1891431000@mocact.org
SUMMARY:Art Adventures
DESCRIPTION:Book Now: https://secure.qgiv.com/for/mocactevents/event/aadventure/ \nYour child can join us every Saturday for a relaxed and inspiring drop-in art class at the museum! \nMoCA/CT Art Studio Classroom – entrance in back\n$25.00/per child\nAges 4+
URL:https://mocact.org/events-calendar/art-adventures-4-2-6/2029-12-08/
LOCATION:MoCA\CT\, 19 Newtown Turnpike\, Westport\, 06880\, United States
CATEGORIES:Event
END:VEVENT
BEGIN:VEVENT
DTSTART;TZID=America/New_York:20291215T120000
DTEND;TZID=America/New_York:20291215T133000
DTSTAMP:20260423T125457
CREATED:20260423T155023Z
LAST-MODIFIED:20260423T155023Z
UID:10005564-1892030400-1892035800@mocact.org
SUMMARY:Art Adventures
DESCRIPTION:Book Now: https://secure.qgiv.com/for/mocactevents/event/aadventure/ \nYour child can join us every Saturday for a relaxed and inspiring drop-in art class at the museum! \nMoCA/CT Art Studio Classroom – entrance in back\n$25.00/per child\nAges 4+
URL:https://mocact.org/events-calendar/art-adventures-4-2-6/2029-12-15/
LOCATION:MoCA\CT\, 19 Newtown Turnpike\, Westport\, 06880\, United States
CATEGORIES:Event
END:VEVENT
BEGIN:VEVENT
DTSTART;TZID=America/New_York:20291222T120000
DTEND;TZID=America/New_York:20291222T133000
DTSTAMP:20260423T125457
CREATED:20260423T155023Z
LAST-MODIFIED:20260423T155023Z
UID:10005565-1892635200-1892640600@mocact.org
SUMMARY:Art Adventures
DESCRIPTION:Book Now: https://secure.qgiv.com/for/mocactevents/event/aadventure/ \nYour child can join us every Saturday for a relaxed and inspiring drop-in art class at the museum! \nMoCA/CT Art Studio Classroom – entrance in back\n$25.00/per child\nAges 4+
URL:https://mocact.org/events-calendar/art-adventures-4-2-6/2029-12-22/
LOCATION:MoCA\CT\, 19 Newtown Turnpike\, Westport\, 06880\, United States
CATEGORIES:Event
END:VEVENT
BEGIN:VEVENT
DTSTART;TZID=America/New_York:20291229T120000
DTEND;TZID=America/New_York:20291229T133000
DTSTAMP:20260423T125457
CREATED:20260423T155023Z
LAST-MODIFIED:20260423T155023Z
UID:10005566-1893240000-1893245400@mocact.org
SUMMARY:Art Adventures
DESCRIPTION:Book Now: https://secure.qgiv.com/for/mocactevents/event/aadventure/ \nYour child can join us every Saturday for a relaxed and inspiring drop-in art class at the museum! \nMoCA/CT Art Studio Classroom – entrance in back\n$25.00/per child\nAges 4+
URL:https://mocact.org/events-calendar/art-adventures-4-2-6/2029-12-29/
LOCATION:MoCA\CT\, 19 Newtown Turnpike\, Westport\, 06880\, United States
CATEGORIES:Event
END:VEVENT
BEGIN:VEVENT
DTSTART;TZID=America/New_York:20300105T120000
DTEND;TZID=America/New_York:20300105T133000
DTSTAMP:20260423T125457
CREATED:20260423T155023Z
LAST-MODIFIED:20260423T155023Z
UID:10005567-1893844800-1893850200@mocact.org
SUMMARY:Art Adventures
DESCRIPTION:Book Now: https://secure.qgiv.com/for/mocactevents/event/aadventure/ \nYour child can join us every Saturday for a relaxed and inspiring drop-in art class at the museum! \nMoCA/CT Art Studio Classroom – entrance in back\n$25.00/per child\nAges 4+
URL:https://mocact.org/events-calendar/art-adventures-4-2-6/2030-01-05/
LOCATION:MoCA\CT\, 19 Newtown Turnpike\, Westport\, 06880\, United States
CATEGORIES:Event
END:VEVENT
BEGIN:VEVENT
DTSTART;TZID=America/New_York:20300112T120000
DTEND;TZID=America/New_York:20300112T133000
DTSTAMP:20260423T125457
CREATED:20260423T155023Z
LAST-MODIFIED:20260423T155023Z
UID:10005568-1894449600-1894455000@mocact.org
SUMMARY:Art Adventures
DESCRIPTION:Book Now: https://secure.qgiv.com/for/mocactevents/event/aadventure/ \nYour child can join us every Saturday for a relaxed and inspiring drop-in art class at the museum! \nMoCA/CT Art Studio Classroom – entrance in back\n$25.00/per child\nAges 4+
URL:https://mocact.org/events-calendar/art-adventures-4-2-6/2030-01-12/
LOCATION:MoCA\CT\, 19 Newtown Turnpike\, Westport\, 06880\, United States
CATEGORIES:Event
END:VEVENT
BEGIN:VEVENT
DTSTART;TZID=America/New_York:20300119T120000
DTEND;TZID=America/New_York:20300119T133000
DTSTAMP:20260423T125457
CREATED:20260423T155023Z
LAST-MODIFIED:20260423T155023Z
UID:10005569-1895054400-1895059800@mocact.org
SUMMARY:Art Adventures
DESCRIPTION:Book Now: https://secure.qgiv.com/for/mocactevents/event/aadventure/ \nYour child can join us every Saturday for a relaxed and inspiring drop-in art class at the museum! \nMoCA/CT Art Studio Classroom – entrance in back\n$25.00/per child\nAges 4+
URL:https://mocact.org/events-calendar/art-adventures-4-2-6/2030-01-19/
LOCATION:MoCA\CT\, 19 Newtown Turnpike\, Westport\, 06880\, United States
CATEGORIES:Event
END:VEVENT
BEGIN:VEVENT
DTSTART;TZID=America/New_York:20300126T120000
DTEND;TZID=America/New_York:20300126T133000
DTSTAMP:20260423T125457
CREATED:20260423T155023Z
LAST-MODIFIED:20260423T155023Z
UID:10005570-1895659200-1895664600@mocact.org
SUMMARY:Art Adventures
DESCRIPTION:Book Now: https://secure.qgiv.com/for/mocactevents/event/aadventure/ \nYour child can join us every Saturday for a relaxed and inspiring drop-in art class at the museum! \nMoCA/CT Art Studio Classroom – entrance in back\n$25.00/per child\nAges 4+
URL:https://mocact.org/events-calendar/art-adventures-4-2-6/2030-01-26/
LOCATION:MoCA\CT\, 19 Newtown Turnpike\, Westport\, 06880\, United States
CATEGORIES:Event
END:VEVENT
BEGIN:VEVENT
DTSTART;TZID=America/New_York:20300202T120000
DTEND;TZID=America/New_York:20300202T133000
DTSTAMP:20260423T125457
CREATED:20260423T155023Z
LAST-MODIFIED:20260423T155023Z
UID:10005571-1896264000-1896269400@mocact.org
SUMMARY:Art Adventures
DESCRIPTION:Book Now: https://secure.qgiv.com/for/mocactevents/event/aadventure/ \nYour child can join us every Saturday for a relaxed and inspiring drop-in art class at the museum! \nMoCA/CT Art Studio Classroom – entrance in back\n$25.00/per child\nAges 4+
URL:https://mocact.org/events-calendar/art-adventures-4-2-6/2030-02-02/
LOCATION:MoCA\CT\, 19 Newtown Turnpike\, Westport\, 06880\, United States
CATEGORIES:Event
END:VEVENT
BEGIN:VEVENT
DTSTART;TZID=America/New_York:20300209T120000
DTEND;TZID=America/New_York:20300209T133000
DTSTAMP:20260423T125457
CREATED:20260423T155023Z
LAST-MODIFIED:20260423T155023Z
UID:10005572-1896868800-1896874200@mocact.org
SUMMARY:Art Adventures
DESCRIPTION:Book Now: https://secure.qgiv.com/for/mocactevents/event/aadventure/ \nYour child can join us every Saturday for a relaxed and inspiring drop-in art class at the museum! \nMoCA/CT Art Studio Classroom – entrance in back\n$25.00/per child\nAges 4+
URL:https://mocact.org/events-calendar/art-adventures-4-2-6/2030-02-09/
LOCATION:MoCA\CT\, 19 Newtown Turnpike\, Westport\, 06880\, United States
CATEGORIES:Event
END:VEVENT
BEGIN:VEVENT
DTSTART;TZID=America/New_York:20300216T120000
DTEND;TZID=America/New_York:20300216T133000
DTSTAMP:20260423T125458
CREATED:20260423T155023Z
LAST-MODIFIED:20260423T155023Z
UID:10005573-1897473600-1897479000@mocact.org
SUMMARY:Art Adventures
DESCRIPTION:Book Now: https://secure.qgiv.com/for/mocactevents/event/aadventure/ \nYour child can join us every Saturday for a relaxed and inspiring drop-in art class at the museum! \nMoCA/CT Art Studio Classroom – entrance in back\n$25.00/per child\nAges 4+
URL:https://mocact.org/events-calendar/art-adventures-4-2-6/2030-02-16/
LOCATION:MoCA\CT\, 19 Newtown Turnpike\, Westport\, 06880\, United States
CATEGORIES:Event
END:VEVENT
BEGIN:VEVENT
DTSTART;TZID=America/New_York:20300223T120000
DTEND;TZID=America/New_York:20300223T133000
DTSTAMP:20260423T125458
CREATED:20260423T155023Z
LAST-MODIFIED:20260423T155023Z
UID:10005574-1898078400-1898083800@mocact.org
SUMMARY:Art Adventures
DESCRIPTION:Book Now: https://secure.qgiv.com/for/mocactevents/event/aadventure/ \nYour child can join us every Saturday for a relaxed and inspiring drop-in art class at the museum! \nMoCA/CT Art Studio Classroom – entrance in back\n$25.00/per child\nAges 4+
URL:https://mocact.org/events-calendar/art-adventures-4-2-6/2030-02-23/
LOCATION:MoCA\CT\, 19 Newtown Turnpike\, Westport\, 06880\, United States
CATEGORIES:Event
END:VEVENT
BEGIN:VEVENT
DTSTART;TZID=America/New_York:20300302T120000
DTEND;TZID=America/New_York:20300302T133000
DTSTAMP:20260423T125458
CREATED:20260423T155023Z
LAST-MODIFIED:20260423T155023Z
UID:10005575-1898683200-1898688600@mocact.org
SUMMARY:Art Adventures
DESCRIPTION:Book Now: https://secure.qgiv.com/for/mocactevents/event/aadventure/ \nYour child can join us every Saturday for a relaxed and inspiring drop-in art class at the museum! \nMoCA/CT Art Studio Classroom – entrance in back\n$25.00/per child\nAges 4+
URL:https://mocact.org/events-calendar/art-adventures-4-2-6/2030-03-02/
LOCATION:MoCA\CT\, 19 Newtown Turnpike\, Westport\, 06880\, United States
CATEGORIES:Event
END:VEVENT
BEGIN:VEVENT
DTSTART;TZID=America/New_York:20300309T120000
DTEND;TZID=America/New_York:20300309T133000
DTSTAMP:20260423T125458
CREATED:20260423T155023Z
LAST-MODIFIED:20260423T155023Z
UID:10005576-1899288000-1899293400@mocact.org
SUMMARY:Art Adventures
DESCRIPTION:Book Now: https://secure.qgiv.com/for/mocactevents/event/aadventure/ \nYour child can join us every Saturday for a relaxed and inspiring drop-in art class at the museum! \nMoCA/CT Art Studio Classroom – entrance in back\n$25.00/per child\nAges 4+
URL:https://mocact.org/events-calendar/art-adventures-4-2-6/2030-03-09/
LOCATION:MoCA\CT\, 19 Newtown Turnpike\, Westport\, 06880\, United States
CATEGORIES:Event
END:VEVENT
BEGIN:VEVENT
DTSTART;TZID=America/New_York:20300316T120000
DTEND;TZID=America/New_York:20300316T133000
DTSTAMP:20260423T125458
CREATED:20260423T155023Z
LAST-MODIFIED:20260423T155023Z
UID:10005577-1899892800-1899898200@mocact.org
SUMMARY:Art Adventures
DESCRIPTION:Book Now: https://secure.qgiv.com/for/mocactevents/event/aadventure/ \nYour child can join us every Saturday for a relaxed and inspiring drop-in art class at the museum! \nMoCA/CT Art Studio Classroom – entrance in back\n$25.00/per child\nAges 4+
URL:https://mocact.org/events-calendar/art-adventures-4-2-6/2030-03-16/
LOCATION:MoCA\CT\, 19 Newtown Turnpike\, Westport\, 06880\, United States
CATEGORIES:Event
END:VEVENT
BEGIN:VEVENT
DTSTART;TZID=America/New_York:20300323T120000
DTEND;TZID=America/New_York:20300323T133000
DTSTAMP:20260423T125458
CREATED:20260423T155023Z
LAST-MODIFIED:20260423T155023Z
UID:10005578-1900497600-1900503000@mocact.org
SUMMARY:Art Adventures
DESCRIPTION:Book Now: https://secure.qgiv.com/for/mocactevents/event/aadventure/ \nYour child can join us every Saturday for a relaxed and inspiring drop-in art class at the museum! \nMoCA/CT Art Studio Classroom – entrance in back\n$25.00/per child\nAges 4+
URL:https://mocact.org/events-calendar/art-adventures-4-2-6/2030-03-23/
LOCATION:MoCA\CT\, 19 Newtown Turnpike\, Westport\, 06880\, United States
CATEGORIES:Event
END:VEVENT
BEGIN:VEVENT
DTSTART;TZID=America/New_York:20300330T120000
DTEND;TZID=America/New_York:20300330T133000
DTSTAMP:20260423T125458
CREATED:20260423T155023Z
LAST-MODIFIED:20260423T155023Z
UID:10005579-1901102400-1901107800@mocact.org
SUMMARY:Art Adventures
DESCRIPTION:Book Now: https://secure.qgiv.com/for/mocactevents/event/aadventure/ \nYour child can join us every Saturday for a relaxed and inspiring drop-in art class at the museum! \nMoCA/CT Art Studio Classroom – entrance in back\n$25.00/per child\nAges 4+
URL:https://mocact.org/events-calendar/art-adventures-4-2-6/2030-03-30/
LOCATION:MoCA\CT\, 19 Newtown Turnpike\, Westport\, 06880\, United States
CATEGORIES:Event
END:VEVENT
BEGIN:VEVENT
DTSTART;TZID=America/New_York:20300406T120000
DTEND;TZID=America/New_York:20300406T133000
DTSTAMP:20260423T125458
CREATED:20260423T155023Z
LAST-MODIFIED:20260423T155023Z
UID:10005580-1901707200-1901712600@mocact.org
SUMMARY:Art Adventures
DESCRIPTION:Book Now: https://secure.qgiv.com/for/mocactevents/event/aadventure/ \nYour child can join us every Saturday for a relaxed and inspiring drop-in art class at the museum! \nMoCA/CT Art Studio Classroom – entrance in back\n$25.00/per child\nAges 4+
URL:https://mocact.org/events-calendar/art-adventures-4-2-6/2030-04-06/
LOCATION:MoCA\CT\, 19 Newtown Turnpike\, Westport\, 06880\, United States
CATEGORIES:Event
END:VEVENT
BEGIN:VEVENT
DTSTART;TZID=America/New_York:20300413T120000
DTEND;TZID=America/New_York:20300413T133000
DTSTAMP:20260423T125458
CREATED:20260423T155023Z
LAST-MODIFIED:20260423T155023Z
UID:10005581-1902312000-1902317400@mocact.org
SUMMARY:Art Adventures
DESCRIPTION:Book Now: https://secure.qgiv.com/for/mocactevents/event/aadventure/ \nYour child can join us every Saturday for a relaxed and inspiring drop-in art class at the museum! \nMoCA/CT Art Studio Classroom – entrance in back\n$25.00/per child\nAges 4+
URL:https://mocact.org/events-calendar/art-adventures-4-2-6/2030-04-13/
LOCATION:MoCA\CT\, 19 Newtown Turnpike\, Westport\, 06880\, United States
CATEGORIES:Event
END:VEVENT
BEGIN:VEVENT
DTSTART;TZID=America/New_York:20300420T120000
DTEND;TZID=America/New_York:20300420T133000
DTSTAMP:20260423T125458
CREATED:20260423T155023Z
LAST-MODIFIED:20260423T155023Z
UID:10005582-1902916800-1902922200@mocact.org
SUMMARY:Art Adventures
DESCRIPTION:Book Now: https://secure.qgiv.com/for/mocactevents/event/aadventure/ \nYour child can join us every Saturday for a relaxed and inspiring drop-in art class at the museum! \nMoCA/CT Art Studio Classroom – entrance in back\n$25.00/per child\nAges 4+
URL:https://mocact.org/events-calendar/art-adventures-4-2-6/2030-04-20/
LOCATION:MoCA\CT\, 19 Newtown Turnpike\, Westport\, 06880\, United States
CATEGORIES:Event
END:VEVENT
BEGIN:VEVENT
DTSTART;TZID=America/New_York:20300427T120000
DTEND;TZID=America/New_York:20300427T133000
DTSTAMP:20260423T125458
CREATED:20260423T155023Z
LAST-MODIFIED:20260423T155023Z
UID:10005583-1903521600-1903527000@mocact.org
SUMMARY:Art Adventures
DESCRIPTION:Book Now: https://secure.qgiv.com/for/mocactevents/event/aadventure/ \nYour child can join us every Saturday for a relaxed and inspiring drop-in art class at the museum! \nMoCA/CT Art Studio Classroom – entrance in back\n$25.00/per child\nAges 4+
URL:https://mocact.org/events-calendar/art-adventures-4-2-6/2030-04-27/
LOCATION:MoCA\CT\, 19 Newtown Turnpike\, Westport\, 06880\, United States
CATEGORIES:Event
END:VEVENT
BEGIN:VEVENT
DTSTART;TZID=America/New_York:20300504T120000
DTEND;TZID=America/New_York:20300504T133000
DTSTAMP:20260423T125458
CREATED:20260423T155023Z
LAST-MODIFIED:20260423T155023Z
UID:10005584-1904126400-1904131800@mocact.org
SUMMARY:Art Adventures
DESCRIPTION:Book Now: https://secure.qgiv.com/for/mocactevents/event/aadventure/ \nYour child can join us every Saturday for a relaxed and inspiring drop-in art class at the museum! \nMoCA/CT Art Studio Classroom – entrance in back\n$25.00/per child\nAges 4+
URL:https://mocact.org/events-calendar/art-adventures-4-2-6/2030-05-04/
LOCATION:MoCA\CT\, 19 Newtown Turnpike\, Westport\, 06880\, United States
CATEGORIES:Event
END:VEVENT
BEGIN:VEVENT
DTSTART;TZID=America/New_York:20300511T120000
DTEND;TZID=America/New_York:20300511T133000
DTSTAMP:20260423T125458
CREATED:20260423T155023Z
LAST-MODIFIED:20260423T155023Z
UID:10005585-1904731200-1904736600@mocact.org
SUMMARY:Art Adventures
DESCRIPTION:Book Now: https://secure.qgiv.com/for/mocactevents/event/aadventure/ \nYour child can join us every Saturday for a relaxed and inspiring drop-in art class at the museum! \nMoCA/CT Art Studio Classroom – entrance in back\n$25.00/per child\nAges 4+
URL:https://mocact.org/events-calendar/art-adventures-4-2-6/2030-05-11/
LOCATION:MoCA\CT\, 19 Newtown Turnpike\, Westport\, 06880\, United States
CATEGORIES:Event
END:VEVENT
BEGIN:VEVENT
DTSTART;TZID=America/New_York:20300518T120000
DTEND;TZID=America/New_York:20300518T133000
DTSTAMP:20260423T125458
CREATED:20260423T155023Z
LAST-MODIFIED:20260423T155023Z
UID:10005586-1905336000-1905341400@mocact.org
SUMMARY:Art Adventures
DESCRIPTION:Book Now: https://secure.qgiv.com/for/mocactevents/event/aadventure/ \nYour child can join us every Saturday for a relaxed and inspiring drop-in art class at the museum! \nMoCA/CT Art Studio Classroom – entrance in back\n$25.00/per child\nAges 4+
URL:https://mocact.org/events-calendar/art-adventures-4-2-6/2030-05-18/
LOCATION:MoCA\CT\, 19 Newtown Turnpike\, Westport\, 06880\, United States
CATEGORIES:Event
END:VEVENT
BEGIN:VEVENT
DTSTART;TZID=America/New_York:20300525T120000
DTEND;TZID=America/New_York:20300525T133000
DTSTAMP:20260423T125458
CREATED:20260423T155023Z
LAST-MODIFIED:20260423T155023Z
UID:10005587-1905940800-1905946200@mocact.org
SUMMARY:Art Adventures
DESCRIPTION:Book Now: https://secure.qgiv.com/for/mocactevents/event/aadventure/ \nYour child can join us every Saturday for a relaxed and inspiring drop-in art class at the museum! \nMoCA/CT Art Studio Classroom – entrance in back\n$25.00/per child\nAges 4+
URL:https://mocact.org/events-calendar/art-adventures-4-2-6/2030-05-25/
LOCATION:MoCA\CT\, 19 Newtown Turnpike\, Westport\, 06880\, United States
CATEGORIES:Event
END:VEVENT
BEGIN:VEVENT
DTSTART;TZID=America/New_York:20300601T120000
DTEND;TZID=America/New_York:20300601T133000
DTSTAMP:20260423T125458
CREATED:20260423T155023Z
LAST-MODIFIED:20260423T155023Z
UID:10005588-1906545600-1906551000@mocact.org
SUMMARY:Art Adventures
DESCRIPTION:Book Now: https://secure.qgiv.com/for/mocactevents/event/aadventure/ \nYour child can join us every Saturday for a relaxed and inspiring drop-in art class at the museum! \nMoCA/CT Art Studio Classroom – entrance in back\n$25.00/per child\nAges 4+
URL:https://mocact.org/events-calendar/art-adventures-4-2-6/2030-06-01/
LOCATION:MoCA\CT\, 19 Newtown Turnpike\, Westport\, 06880\, United States
CATEGORIES:Event
END:VEVENT
END:VCALENDAR